BEGIN:VCALENDAR
VERSION:2.0
PRODID:-//Precious Eggs - ECPv6.15.20//NONSGML v1.0//EN
CALSCALE:GREGORIAN
METHOD:PUBLISH
X-WR-CALNAME:Precious Eggs
X-ORIGINAL-URL:https://preciouseggs.us
X-WR-CALDESC:Events for Precious Eggs
REFRESH-INTERVAL;VALUE=DURATION:PT1H
X-Robots-Tag:noindex
X-PUBLISHED-TTL:PT1H
BEGIN:VTIMEZONE
TZID:America/Los_Angeles
BEGIN:DAYLIGHT
TZOFFSETFROM:-0800
TZOFFSETTO:-0700
TZNAME:PDT
DTSTART:20240310T100000
END:DAYLIGHT
BEGIN:STANDARD
TZOFFSETFROM:-0700
TZOFFSETTO:-0800
TZNAME:PST
DTSTART:20241103T090000
END:STANDARD
BEGIN:DAYLIGHT
TZOFFSETFROM:-0800
TZOFFSETTO:-0700
TZNAME:PDT
DTSTART:20250309T100000
END:DAYLIGHT
BEGIN:STANDARD
TZOFFSETFROM:-0700
TZOFFSETTO:-0800
TZNAME:PST
DTSTART:20251102T090000
END:STANDARD
BEGIN:DAYLIGHT
TZOFFSETFROM:-0800
TZOFFSETTO:-0700
TZNAME:PDT
DTSTART:20260308T100000
END:DAYLIGHT
BEGIN:STANDARD
TZOFFSETFROM:-0700
TZOFFSETTO:-0800
TZNAME:PST
DTSTART:20261101T090000
END:STANDARD
END:VTIMEZONE
BEGIN:VEVENT
DTSTART;TZID=America/Los_Angeles:20251107T183000
DTEND;TZID=America/Los_Angeles:20251107T220000
DTSTAMP:20260421T045925
CREATED:20251006T192731Z
LAST-MODIFIED:20251006T192756Z
UID:10000472-1762540200-1762552800@preciouseggs.us
SUMMARY:Shivon's Birthday Dinner
DESCRIPTION:My 40th birthday is November 9\, but I will be on a cruise then\, so I would love to do a dinner with my gals on November 7.
URL:https://preciouseggs.us/event/shivons-birthday-dinner/
LOCATION:Water Grill\, 615 J Street\, San Diego\, 92101\, United States
CATEGORIES:Birthday,Dinner
ATTACH;FMTTYPE=image/jpeg:https://preciouseggs.us/wp-content/uploads/2025/10/65b5a08413bba4915ab11091_gal_din.jpg
END:VEVENT
END:VCALENDAR