BEGIN:VCALENDAR
VERSION:2.0
PRODID:-//Precious Eggs - ECPv6.15.20//NONSGML v1.0//EN
CALSCALE:GREGORIAN
METHOD:PUBLISH
X-WR-CALNAME:Precious Eggs
X-ORIGINAL-URL:https://preciouseggs.us
X-WR-CALDESC:Events for Precious Eggs
REFRESH-INTERVAL;VALUE=DURATION:PT1H
X-Robots-Tag:noindex
X-PUBLISHED-TTL:PT1H
BEGIN:VTIMEZONE
TZID:America/Los_Angeles
BEGIN:DAYLIGHT
TZOFFSETFROM:-0800
TZOFFSETTO:-0700
TZNAME:PDT
DTSTART:20240310T100000
END:DAYLIGHT
BEGIN:STANDARD
TZOFFSETFROM:-0700
TZOFFSETTO:-0800
TZNAME:PST
DTSTART:20241103T090000
END:STANDARD
BEGIN:DAYLIGHT
TZOFFSETFROM:-0800
TZOFFSETTO:-0700
TZNAME:PDT
DTSTART:20250309T100000
END:DAYLIGHT
BEGIN:STANDARD
TZOFFSETFROM:-0700
TZOFFSETTO:-0800
TZNAME:PST
DTSTART:20251102T090000
END:STANDARD
BEGIN:DAYLIGHT
TZOFFSETFROM:-0800
TZOFFSETTO:-0700
TZNAME:PDT
DTSTART:20260308T100000
END:DAYLIGHT
BEGIN:STANDARD
TZOFFSETFROM:-0700
TZOFFSETTO:-0800
TZNAME:PST
DTSTART:20261101T090000
END:STANDARD
BEGIN:DAYLIGHT
TZOFFSETFROM:-0800
TZOFFSETTO:-0700
TZNAME:PDT
DTSTART:20270314T100000
END:DAYLIGHT
BEGIN:STANDARD
TZOFFSETFROM:-0700
TZOFFSETTO:-0800
TZNAME:PST
DTSTART:20271107T090000
END:STANDARD
END:VTIMEZONE
BEGIN:VEVENT
DTSTART;TZID=America/Los_Angeles:20251221T180000
DTEND;TZID=America/Los_Angeles:20251221T193000
DTSTAMP:20260420T213718
CREATED:20251115T171358Z
LAST-MODIFIED:20251220T035527Z
UID:10000477-1766340000-1766345400@preciouseggs.us
SUMMARY:Holiday Boat Parade
DESCRIPTION:Meet at Seaport Village around 6 pm to grab a spot for an “out of this world” Christmas extravaganza! Partners\, family\, and fur babies welcome.
URL:https://preciouseggs.us/event/holiday-boat-parade/
LOCATION:Seaport Village\, 849 W Harbor Drive\, San Diego\, CA\, 92101
CATEGORIES:Community Events
END:VEVENT
BEGIN:VEVENT
DTSTART;TZID=America/Los_Angeles:20260124T140000
DTEND;TZID=America/Los_Angeles:20260124T170000
DTSTAMP:20260420T213718
CREATED:20260106T212328Z
LAST-MODIFIED:20260106T212328Z
UID:10000485-1769263200-1769274000@preciouseggs.us
SUMMARY:Mocktails and Manifestation
DESCRIPTION:
URL:https://preciouseggs.us/event/mocktails-and-manifestation/
LOCATION:Elizabeth’s\, 3203 Grim Ave\, San Diego\, 92104\, United States
CATEGORIES:Arts & Crafts,Lowkey Hang
ATTACH;FMTTYPE=image/webp:https://preciouseggs.us/wp-content/uploads/2026/01/63f35c77-1452-44af-9a49-24f15a372643-288745790.webp
END:VEVENT
BEGIN:VEVENT
DTSTART;TZID=America/Los_Angeles:20260213T190000
DTEND;TZID=America/Los_Angeles:20260213T235900
DTSTAMP:20260420T213718
CREATED:20260129T182514Z
LAST-MODIFIED:20260129T182514Z
UID:10000486-1771009200-1771027140@preciouseggs.us
SUMMARY:Galentine's Day
DESCRIPTION:Knock knock…say no to Valentine’s Day and let’s have Galentine’s Night!!! On February 13\, let’s get our Sex and the City on! Cute outfits and cocktails at Fifth & Rose at 7 pm.
URL:https://preciouseggs.us/event/galentines-day/
LOCATION:Fifth & Rose\, 550 J Street\, San Diego\, 92101\, United States
CATEGORIES:Gal Dates,Night Out
ATTACH;FMTTYPE=image/png:https://preciouseggs.us/wp-content/uploads/2026/01/Screenshot-2025-04-08-at-7.15.16-PM-1200x805-3293681334.png
END:VEVENT
BEGIN:VEVENT
DTSTART;TZID=America/Los_Angeles:20260214T140000
DTEND;TZID=America/Los_Angeles:20260214T170000
DTSTAMP:20260420T213718
CREATED:20260208T210300Z
LAST-MODIFIED:20260208T210300Z
UID:10000487-1771077600-1771088400@preciouseggs.us
SUMMARY:Hearts and Crafts
DESCRIPTION:Jac will be teaching people to make yarn Pom poms and has a fair amount of yarn. Jen will also be bringing the leftover vision board stuff for make-up manifesting for those who missed it the first time around. \nJac will have snacks and stuff for spritzes.
URL:https://preciouseggs.us/event/hearts-and-crafts/
LOCATION:Jac’s\, 4081 Kansas #8\, San Diego\, 92104\, United States
CATEGORIES:Arts & Crafts
ATTACH;FMTTYPE=image/webp:https://preciouseggs.us/wp-content/uploads/2026/02/Heart-Art-Projects-for-Kids-Kids-Activities-Blog.webp
END:VEVENT
BEGIN:VEVENT
DTSTART;TZID=America/Los_Angeles:20260328T140000
DTEND;TZID=America/Los_Angeles:20260328T170000
DTSTAMP:20260420T213718
CREATED:20260314T205405Z
LAST-MODIFIED:20260321T225844Z
UID:10000490-1774706400-1774717200@preciouseggs.us
SUMMARY:High Tea and Mahjong
DESCRIPTION:
URL:https://preciouseggs.us/event/high-tea-and-mahjong/
LOCATION:Elizabeth’s\, 3203 Grim Ave\, San Diego\, 92104\, United States
ATTACH;FMTTYPE=image/jpeg:https://preciouseggs.us/wp-content/uploads/2026/03/Heres-How-Gen-Z-Is-Changing-High-Tea-FT-BLOG1024-Proper-Rose-Garden-3dce333f97334d608ad30058231765ba.jpg
END:VEVENT
BEGIN:VEVENT
DTSTART;VALUE=DATE:20260402
DTEND;VALUE=DATE:20260403
DTSTAMP:20260420T213718
CREATED:20251219T234759Z
LAST-MODIFIED:20251219T234759Z
UID:10000480-1775088000-1775174399@preciouseggs.us
SUMMARY:Christine's Birthday
DESCRIPTION:Happy Birthday\, Christine!
URL:https://preciouseggs.us/event/christines-birthday/2026-04-02/
CATEGORIES:Birthday
ATTACH;FMTTYPE=image/jpeg:https://preciouseggs.us/wp-content/uploads/2025/12/pexels-psco-1071878-scaled.jpg
END:VEVENT
BEGIN:VEVENT
DTSTART;TZID=America/Los_Angeles:20260411T130000
DTEND;TZID=America/Los_Angeles:20260411T150000
DTSTAMP:20260420T213718
CREATED:20260401T164423Z
LAST-MODIFIED:20260401T182734Z
UID:10000491-1775912400-1775919600@preciouseggs.us
SUMMARY:Anniversary Lunch at Books and Records
DESCRIPTION:What a year! Hope everyone can join our anniversary lunch at Books and Records on Saturday\, April 11\, 1pm. \nCheck out the menu here. \nPlease let Stephanie know if you can or can’t make it.
URL:https://preciouseggs.us/event/anniversary-lunch-at-books-and-records/
LOCATION:Books and Records\, 2202 Fourth Ave.\, San Diego\,\, 92101\, United States
CATEGORIES:Anniversary,Birthday,Celebration,Lunch
ATTACH;FMTTYPE=image/jpeg:https://preciouseggs.us/wp-content/uploads/2026/04/BooksandRecords_KimberlyMotos30of76.jpg
END:VEVENT
BEGIN:VEVENT
DTSTART;VALUE=DATE:20260413
DTEND;VALUE=DATE:20260414
DTSTAMP:20260420T213718
CREATED:20250608T033001Z
LAST-MODIFIED:20250613T003832Z
UID:10000391-1776038400-1776124799@preciouseggs.us
SUMMARY:Jen H. Birthday
DESCRIPTION:Happy Birthday\, Jen!
URL:https://preciouseggs.us/event/jen-h-birthday/2026-04-13/
CATEGORIES:Birthday
ATTACH;FMTTYPE=image/jpeg:https://preciouseggs.us/wp-content/uploads/2025/06/birthday-941823_1280.jpg
END:VEVENT
BEGIN:VEVENT
DTSTART;TZID=America/Los_Angeles:20260502T200000
DTEND;TZID=America/Los_Angeles:20260503T000000
DTSTAMP:20260420T213718
CREATED:20260307T021427Z
LAST-MODIFIED:20260307T021427Z
UID:10000489-1777752000-1777766400@preciouseggs.us
SUMMARY:Avant Garde Ball: Larger Than Life
DESCRIPTION:MCASD’s “Avant Garde Ball” is back. \nSave the date\, Saturday\, May 2 8PM-12AM\, for the return of San Diego’s ultimate\, museum-wide party celebrating this year’s theme—Larger Than Life. \nChaired by MCASD Trustee Lorenza Fabre Vega and Bruno Meli\, the Ball is for the next generation\, those who give new meaning to contemporary art\, music\, and fashion. The theme\, Larger Than Life\, means bigger\, bolder\, and boundary-breaking. \nPlease note: The Avant Garde Ball is a 21+ event. \nThis one-of-a-kind party features: \n\nOpen bar with crafted cocktails\, beer\, and wine\nLate-night bites by top San Diego chefs\nHouse music\nIn-gallery DJ listening rooms\nLive music\nImmersive artist installations\nVIP experience upgrades
URL:https://preciouseggs.us/event/avant-garde-ball-larger-than-life/
LOCATION:MCASD\, 700 Prospect St\, La Jolla\, 92037\, United States
CATEGORIES:Community Events,Fundraising,Night Out
ATTACH;FMTTYPE=image/png:https://preciouseggs.us/wp-content/uploads/2026/03/MCASD_AGBALL26_LOGO_V3.png
END:VEVENT
BEGIN:VEVENT
DTSTART;VALUE=DATE:20260504
DTEND;VALUE=DATE:20260505
DTSTAMP:20260420T213718
CREATED:20250608T033214Z
LAST-MODIFIED:20250613T003746Z
UID:10000396-1777852800-1777939199@preciouseggs.us
SUMMARY:Kristen's Birthday
DESCRIPTION:Happy Birthday\, Kristen!
URL:https://preciouseggs.us/event/kristens-birthday/2026-05-04/
CATEGORIES:Birthday
ATTACH;FMTTYPE=image/jpeg:https://preciouseggs.us/wp-content/uploads/2025/06/ai-generated-8606224_1280.jpg
END:VEVENT
BEGIN:VEVENT
DTSTART;VALUE=DATE:20260524
DTEND;VALUE=DATE:20260525
DTSTAMP:20260420T213718
CREATED:20250608T034149Z
LAST-MODIFIED:20250613T003722Z
UID:10000416-1779580800-1779667199@preciouseggs.us
SUMMARY:Elizabeth's Birthday
DESCRIPTION:Happy Birthday\, Elizabeth!
URL:https://preciouseggs.us/event/elizabeths-birthday/2026-05-24/
CATEGORIES:Birthday
ATTACH;FMTTYPE=image/jpeg:https://preciouseggs.us/wp-content/uploads/2025/06/bokeh-3502292_1280.jpg
END:VEVENT
BEGIN:VEVENT
DTSTART;VALUE=DATE:20260525
DTEND;VALUE=DATE:20260526
DTSTAMP:20260420T213718
CREATED:20250521T191730Z
LAST-MODIFIED:20250613T003756Z
UID:10000373-1779667200-1779753599@preciouseggs.us
SUMMARY:Jac's Birthday
DESCRIPTION:Happy Birthday\, Jac!
URL:https://preciouseggs.us/event/jacs-birthday/2026-05-25/
CATEGORIES:Birthday
ATTACH;FMTTYPE=image/jpeg:https://preciouseggs.us/wp-content/uploads/2025/05/pexels-photo-12955895-scaled.jpeg
END:VEVENT
BEGIN:VEVENT
DTSTART;VALUE=DATE:20260716
DTEND;VALUE=DATE:20260717
DTSTAMP:20260420T213718
CREATED:20250716T173735Z
LAST-MODIFIED:20250716T173855Z
UID:10000444-1784160000-1784246399@preciouseggs.us
SUMMARY:Amanda's Birthday
DESCRIPTION:Happy Birthday\, Amanda!
URL:https://preciouseggs.us/event/amandas-birthday/2026-07-16/
CATEGORIES:Birthday
ATTACH;FMTTYPE=image/jpeg:https://preciouseggs.us/wp-content/uploads/2025/07/pexels-n-voitkevich-10477169-scaled.jpg
END:VEVENT
BEGIN:VEVENT
DTSTART;VALUE=DATE:20260729
DTEND;VALUE=DATE:20260730
DTSTAMP:20260420T213718
CREATED:20250608T033438Z
LAST-MODIFIED:20250613T003807Z
UID:10000407-1785283200-1785369599@preciouseggs.us
SUMMARY:Veronica's Birthday
DESCRIPTION:Happy Birthday\, Veronica!
URL:https://preciouseggs.us/event/veronicas-birthday/2026-07-29/
CATEGORIES:Birthday
ATTACH;FMTTYPE=image/jpeg:https://preciouseggs.us/wp-content/uploads/2025/06/candy-2363928_1280.jpg
END:VEVENT
BEGIN:VEVENT
DTSTART;VALUE=DATE:20260821
DTEND;VALUE=DATE:20260822
DTSTAMP:20260420T213718
CREATED:20250610T025342Z
LAST-MODIFIED:20250613T003818Z
UID:10000424-1787270400-1787356799@preciouseggs.us
SUMMARY:Katie's Birthday
DESCRIPTION:Happy Birthday\, Katie!
URL:https://preciouseggs.us/event/katies-birthday/2026-08-21/
CATEGORIES:Birthday
ATTACH;FMTTYPE=image/jpeg:https://preciouseggs.us/wp-content/uploads/2025/06/crocodile-7833562_1280.jpg
END:VEVENT
BEGIN:VEVENT
DTSTART;VALUE=DATE:20261011
DTEND;VALUE=DATE:20261012
DTSTAMP:20260420T213718
CREATED:20250608T032825Z
LAST-MODIFIED:20250613T003843Z
UID:10000387-1791676800-1791763199@preciouseggs.us
SUMMARY:Nicole's Birthday
DESCRIPTION:Happy Birthday\, Nicole!
URL:https://preciouseggs.us/event/nicoles-birthday/2026-10-11/
CATEGORIES:Birthday
ATTACH;FMTTYPE=image/jpeg:https://preciouseggs.us/wp-content/uploads/2025/06/fox-7833563_1280.jpg
END:VEVENT
END:VCALENDAR