BEGIN:VCALENDAR
VERSION:2.0
PRODID:-//Precious Eggs - ECPv6.15.20//NONSGML v1.0//EN
CALSCALE:GREGORIAN
METHOD:PUBLISH
X-WR-CALNAME:Precious Eggs
X-ORIGINAL-URL:https://preciouseggs.us
X-WR-CALDESC:Events for Precious Eggs
REFRESH-INTERVAL;VALUE=DURATION:PT1H
X-Robots-Tag:noindex
X-PUBLISHED-TTL:PT1H
BEGIN:VTIMEZONE
TZID:America/Los_Angeles
BEGIN:DAYLIGHT
TZOFFSETFROM:-0800
TZOFFSETTO:-0700
TZNAME:PDT
DTSTART:20260308T100000
END:DAYLIGHT
BEGIN:STANDARD
TZOFFSETFROM:-0700
TZOFFSETTO:-0800
TZNAME:PST
DTSTART:20261101T090000
END:STANDARD
BEGIN:DAYLIGHT
TZOFFSETFROM:-0800
TZOFFSETTO:-0700
TZNAME:PDT
DTSTART:20270314T100000
END:DAYLIGHT
BEGIN:STANDARD
TZOFFSETFROM:-0700
TZOFFSETTO:-0800
TZNAME:PST
DTSTART:20271107T090000
END:STANDARD
BEGIN:DAYLIGHT
TZOFFSETFROM:-0800
TZOFFSETTO:-0700
TZNAME:PDT
DTSTART:20280312T100000
END:DAYLIGHT
BEGIN:STANDARD
TZOFFSETFROM:-0700
TZOFFSETTO:-0800
TZNAME:PST
DTSTART:20281105T090000
END:STANDARD
BEGIN:DAYLIGHT
TZOFFSETFROM:-0800
TZOFFSETTO:-0700
TZNAME:PDT
DTSTART:20290311T100000
END:DAYLIGHT
BEGIN:STANDARD
TZOFFSETFROM:-0700
TZOFFSETTO:-0800
TZNAME:PST
DTSTART:20291104T090000
END:STANDARD
BEGIN:DAYLIGHT
TZOFFSETFROM:-0800
TZOFFSETTO:-0700
TZNAME:PDT
DTSTART:20300310T100000
END:DAYLIGHT
BEGIN:STANDARD
TZOFFSETFROM:-0700
TZOFFSETTO:-0800
TZNAME:PST
DTSTART:20301103T090000
END:STANDARD
BEGIN:DAYLIGHT
TZOFFSETFROM:-0800
TZOFFSETTO:-0700
TZNAME:PDT
DTSTART:20310309T100000
END:DAYLIGHT
BEGIN:STANDARD
TZOFFSETFROM:-0700
TZOFFSETTO:-0800
TZNAME:PST
DTSTART:20311102T090000
END:STANDARD
END:VTIMEZONE
BEGIN:VEVENT
DTSTART;VALUE=DATE:20270402
DTEND;VALUE=DATE:20270403
DTSTAMP:20260419T065615
CREATED:20251219T234759Z
LAST-MODIFIED:20251219T234759Z
UID:10000481-1806624000-1806710399@preciouseggs.us
SUMMARY:Christine's Birthday
DESCRIPTION:Happy Birthday\, Christine!
URL:https://preciouseggs.us/event/christines-birthday/2027-04-02/
CATEGORIES:Birthday
ATTACH;FMTTYPE=image/jpeg:https://preciouseggs.us/wp-content/uploads/2025/12/pexels-psco-1071878-scaled.jpg
END:VEVENT
BEGIN:VEVENT
DTSTART;VALUE=DATE:20280402
DTEND;VALUE=DATE:20280403
DTSTAMP:20260419T065615
CREATED:20251219T234759Z
LAST-MODIFIED:20251219T234759Z
UID:10000482-1838246400-1838332799@preciouseggs.us
SUMMARY:Christine's Birthday
DESCRIPTION:Happy Birthday\, Christine!
URL:https://preciouseggs.us/event/christines-birthday/2028-04-02/
CATEGORIES:Birthday
ATTACH;FMTTYPE=image/jpeg:https://preciouseggs.us/wp-content/uploads/2025/12/pexels-psco-1071878-scaled.jpg
END:VEVENT
BEGIN:VEVENT
DTSTART;VALUE=DATE:20290402
DTEND;VALUE=DATE:20290403
DTSTAMP:20260419T065615
CREATED:20251219T234759Z
LAST-MODIFIED:20251219T234759Z
UID:10000483-1869782400-1869868799@preciouseggs.us
SUMMARY:Christine's Birthday
DESCRIPTION:Happy Birthday\, Christine!
URL:https://preciouseggs.us/event/christines-birthday/2029-04-02/
CATEGORIES:Birthday
ATTACH;FMTTYPE=image/jpeg:https://preciouseggs.us/wp-content/uploads/2025/12/pexels-psco-1071878-scaled.jpg
END:VEVENT
BEGIN:VEVENT
DTSTART;VALUE=DATE:20300402
DTEND;VALUE=DATE:20300403
DTSTAMP:20260419T065615
CREATED:20251219T234759Z
LAST-MODIFIED:20251219T234759Z
UID:10000484-1901318400-1901404799@preciouseggs.us
SUMMARY:Christine's Birthday
DESCRIPTION:Happy Birthday\, Christine!
URL:https://preciouseggs.us/event/christines-birthday/2030-04-02/
CATEGORIES:Birthday
ATTACH;FMTTYPE=image/jpeg:https://preciouseggs.us/wp-content/uploads/2025/12/pexels-psco-1071878-scaled.jpg
END:VEVENT
END:VCALENDAR