BEGIN:VCALENDAR
VERSION:2.0
PRODID:-//Precious Eggs - ECPv6.15.20//NONSGML v1.0//EN
CALSCALE:GREGORIAN
METHOD:PUBLISH
X-ORIGINAL-URL:https://preciouseggs.us
X-WR-CALDESC:Events for Precious Eggs
REFRESH-INTERVAL;VALUE=DURATION:PT1H
X-Robots-Tag:noindex
X-PUBLISHED-TTL:PT1H
BEGIN:VTIMEZONE
TZID:America/Los_Angeles
BEGIN:DAYLIGHT
TZOFFSETFROM:-0800
TZOFFSETTO:-0700
TZNAME:PDT
DTSTART:20240310T100000
END:DAYLIGHT
BEGIN:STANDARD
TZOFFSETFROM:-0700
TZOFFSETTO:-0800
TZNAME:PST
DTSTART:20241103T090000
END:STANDARD
BEGIN:DAYLIGHT
TZOFFSETFROM:-0800
TZOFFSETTO:-0700
TZNAME:PDT
DTSTART:20250309T100000
END:DAYLIGHT
BEGIN:STANDARD
TZOFFSETFROM:-0700
TZOFFSETTO:-0800
TZNAME:PST
DTSTART:20251102T090000
END:STANDARD
BEGIN:DAYLIGHT
TZOFFSETFROM:-0800
TZOFFSETTO:-0700
TZNAME:PDT
DTSTART:20260308T100000
END:DAYLIGHT
BEGIN:STANDARD
TZOFFSETFROM:-0700
TZOFFSETTO:-0800
TZNAME:PST
DTSTART:20261101T090000
END:STANDARD
END:VTIMEZONE
BEGIN:VEVENT
DTSTART;VALUE=DATE:20251126
DTEND;VALUE=DATE:20251127
DTSTAMP:20260419T095549
CREATED:20250608T033626Z
LAST-MODIFIED:20250608T033626Z
UID:10000411-1764115200-1764201599@preciouseggs.us
SUMMARY:Jen M. Birthday
DESCRIPTION:Happy Birthday\, Jen!
URL:https://preciouseggs.us/event/jen-m-birthday/2025-11-26/
CATEGORIES:Birthday
ATTACH;FMTTYPE=image/jpeg:https://preciouseggs.us/wp-content/uploads/2025/06/happy-birthday-1211915_1280.jpg
END:VEVENT
BEGIN:VEVENT
DTSTART;TZID=America/Los_Angeles:20251122T180000
DTEND;TZID=America/Los_Angeles:20251122T220000
DTSTAMP:20260419T095549
CREATED:20251104T000122Z
LAST-MODIFIED:20251104T000122Z
UID:10000474-1763834400-1763848800@preciouseggs.us
SUMMARY:Jen M Bday Dinner
DESCRIPTION:We Are Not Fancy\, We Are Who We Are\nThis place is legitimately a hole in the wall\, blink and you’ll miss it type of establishment and I love it. There is 1 waitress and capacity for about 20 people max\, maybe. Yall know I love me some small businesses\, but this is definitely one of my favorites! -Jen \nWe Love Food & We Love To Feed People
URL:https://preciouseggs.us/event/jen-m-bday-dinner/
LOCATION:Nonno’s\, 5314 Baltimore Dr.\, La Mesa\, 91942\, United States
CATEGORIES:Birthday,Dinner
ATTACH;FMTTYPE=image/jpeg:https://preciouseggs.us/wp-content/uploads/2025/11/l-1279682376.jpg
END:VEVENT
BEGIN:VEVENT
DTSTART;TZID=America/Los_Angeles:20251117T180000
DTEND;TZID=America/Los_Angeles:20251117T203000
DTSTAMP:20260419T095549
CREATED:20250608T035949Z
LAST-MODIFIED:20251103T235359Z
UID:10000421-1763402400-1763411400@preciouseggs.us
SUMMARY:Wicked: For Good
DESCRIPTION:
URL:https://preciouseggs.us/event/wicked-for-good/
LOCATION:AMC Plaza Bonita\, 3050 Plaza Bonita Rd\, National City\, 91950\, United States
CATEGORIES:Movie Premiere
ATTACH;FMTTYPE=image/jpeg:https://preciouseggs.us/wp-content/uploads/2025/06/WICKED-FOR-GOOD-Trailer-to-Debut-Online-Following-Theatrical-Screenings-1748882158.jpg
END:VEVENT
BEGIN:VEVENT
DTSTART;TZID=America/Los_Angeles:20251114T180000
DTEND;TZID=America/Los_Angeles:20251114T220000
DTSTAMP:20260419T095549
CREATED:20251103T235232Z
LAST-MODIFIED:20251103T235232Z
UID:10000473-1763143200-1763157600@preciouseggs.us
SUMMARY:Wicked Watch Party
DESCRIPTION:Join us as we watch Part 1 for those who haven’t seen it\, or for those of us who want a refresher before Part 2. Dressing up is encouraged!
URL:https://preciouseggs.us/event/wicked-watch-party/
LOCATION:Nicole’s\, 4474 71st Street\, La Mesa\, CA\, 91942\, United States
CATEGORIES:Lowkey Hang
ATTACH;FMTTYPE=image/jpeg:https://preciouseggs.us/wp-content/uploads/2025/11/elphaba-cynthia-erivo-and-glinda-ariana-grande-looking-up-in-wicked-1639677272.jpg
END:VEVENT
BEGIN:VEVENT
DTSTART;VALUE=DATE:20251109
DTEND;VALUE=DATE:20251110
DTSTAMP:20260419T095549
CREATED:20250608T033332Z
LAST-MODIFIED:20250613T003731Z
UID:10000401-1762646400-1762732799@preciouseggs.us
SUMMARY:Shivon's Birthday
DESCRIPTION:Happy Birthday\, Shivon!
URL:https://preciouseggs.us/event/shivons-birthday/2025-11-09/
CATEGORIES:Birthday
ATTACH;FMTTYPE=image/jpeg:https://preciouseggs.us/wp-content/uploads/2025/06/date-of-birth-1796179_1280.jpg
END:VEVENT
BEGIN:VEVENT
DTSTART;TZID=America/Los_Angeles:20251107T183000
DTEND;TZID=America/Los_Angeles:20251107T220000
DTSTAMP:20260419T095549
CREATED:20251006T192731Z
LAST-MODIFIED:20251006T192756Z
UID:10000472-1762540200-1762552800@preciouseggs.us
SUMMARY:Shivon's Birthday Dinner
DESCRIPTION:My 40th birthday is November 9\, but I will be on a cruise then\, so I would love to do a dinner with my gals on November 7.
URL:https://preciouseggs.us/event/shivons-birthday-dinner/
LOCATION:Water Grill\, 615 J Street\, San Diego\, 92101\, United States
CATEGORIES:Birthday,Dinner
ATTACH;FMTTYPE=image/jpeg:https://preciouseggs.us/wp-content/uploads/2025/10/65b5a08413bba4915ab11091_gal_din.jpg
END:VEVENT
BEGIN:VEVENT
DTSTART;TZID=America/Los_Angeles:20251031T180000
DTEND;TZID=America/Los_Angeles:20251031T203000
DTSTAMP:20260419T095549
CREATED:20251003T204355Z
LAST-MODIFIED:20251003T204355Z
UID:10000470-1761933600-1761942600@preciouseggs.us
SUMMARY:Embroidery Nights
DESCRIPTION:Join us for an evening of creativity\, community\, and craft at Sew Loka’s Embroidery Nights! \nStep into our vibrant sewing studio for a relaxing evening where thread meets fabric and strangers become friends. Whether you’ve never held a needle or you’re an experienced stitcher\, this workshop welcomes all skill levels – beginners are encouraged! \nOnly 30 spots available | All materials and snacks provided
URL:https://preciouseggs.us/event/embroidery-nights/
LOCATION:Sew Loka\, 2113 Logan Ave\, Ste B\, San Diego\, 92113\, United States
CATEGORIES:Arts & Crafts,Community Events
ATTACH;FMTTYPE=image/png:https://preciouseggs.us/wp-content/uploads/2025/10/appointmentType-thumb-81326660.png
END:VEVENT
BEGIN:VEVENT
DTSTART;TZID=America/Los_Angeles:20251018T100000
DTEND;TZID=America/Los_Angeles:20251018T170000
DTSTAMP:20260419T095549
CREATED:20250916T235424Z
LAST-MODIFIED:20251004T173502Z
UID:10000450-1760781600-1760806800@preciouseggs.us
SUMMARY:North Park Book Fair - CANCELLED
DESCRIPTION:
URL:https://preciouseggs.us/event/north-park-book-fair/
LOCATION:North Park Way\, San Diego\, CA\, 92104\, United States
CATEGORIES:Community Events
ATTACH;FMTTYPE=image/png:https://preciouseggs.us/wp-content/uploads/2025/09/IMG_8407-copy.png
GEO:32.7472254;-117.1312154
END:VEVENT
BEGIN:VEVENT
DTSTART;VALUE=DATE:20251017
DTEND;VALUE=DATE:20251024
DTSTAMP:20260419T095549
CREATED:20251003T204845Z
LAST-MODIFIED:20251003T204845Z
UID:10000471-1760659200-1761263999@preciouseggs.us
SUMMARY:The Librarians
DESCRIPTION:Director: Kim A. Snyder Run Time: 92 min. Release Year: 2025 \nStarring: Amanda Jones\, Becky Calzada\, Carolyn Foote\, Martha Hickson\, Suzette Baker \n\nSynopsis: As an unprecedented wave of book banning is sparked in Texas\, Florida\, and beyond\, librarians under siege join forces as unlikely defenders fighting for intellectual freedom on the front lines of democracy. \nTHE LIBRARIANS offers a rattling look at coordinated efforts to ban books. More importantly\, it introduces viewers to the everyday and increasingly vital heroes pushing back: the librarians who sound the alarm to both legislative and grassroots attempts to pull books from school and public libraries. \nIn Texas\, the Krause List targets 850 books focused on race and LGBTQIA+ stories – triggering sweeping book bans across the U.S. at an unprecedented rate. As tensions escalate\, librarians connect the dots from heated school and library board meetings nationwide to lay bare the underpinnings of White Christian Nationalism fueling the censorship efforts. Despite facing harassment\, threats\, and laws aimed at criminalizing their work – the librarians’ rallying cry for freedom to read is a chilling cautionary tale.
URL:https://preciouseggs.us/event/the-librarians/
LOCATION:Digital Gym Cinema\, 1100 Market St.\, San Diego\, 92101\, United States
CATEGORIES:Movie Premiere
ATTACH;FMTTYPE=image/jpeg:https://preciouseggs.us/wp-content/uploads/2025/10/f2xA2e81wBiRxio32kRJe42P05M.jpg
END:VEVENT
BEGIN:VEVENT
DTSTART;VALUE=DATE:20251011
DTEND;VALUE=DATE:20251012
DTSTAMP:20260419T095549
CREATED:20250608T032825Z
LAST-MODIFIED:20250613T003843Z
UID:10000386-1760140800-1760227199@preciouseggs.us
SUMMARY:Nicole's Birthday
DESCRIPTION:Happy Birthday\, Nicole!
URL:https://preciouseggs.us/event/nicoles-birthday/2025-10-11/
CATEGORIES:Birthday
ATTACH;FMTTYPE=image/jpeg:https://preciouseggs.us/wp-content/uploads/2025/06/fox-7833563_1280.jpg
END:VEVENT
BEGIN:VEVENT
DTSTART;VALUE=DATE:20251005
DTEND;VALUE=DATE:20251008
DTSTAMP:20260419T095549
CREATED:20250917T182356Z
LAST-MODIFIED:20250917T182356Z
UID:10000451-1759622400-1759881599@preciouseggs.us
SUMMARY:Banned Books Week Read-In
DESCRIPTION:Libro.fm and Silent Book Club have paired up with nearly 450 independent bookshops and libraries to protest ongoing censorship on October 5\, 6\, and 7. \nAttendees will also receive a free audiobook. \nAber Stoat Books\, North County\nNeurodivergent\, Latinx\, and Women-Owned\n2173 Salk Ave\,\nCarlsbad\, CA 92008\naberstoatbooks.com \nMeet Cute Romance Bookshop\, East County\nQueer- and Woman-Owned \n8235 La Mesa Blvd.\nLa Mesa\, CA 91942\nmeetcutebookshop.com \nThrough the Fold\, San Diego\nMother-Daughter Duo\n1525 Ft. Stockton Dr.\nSan Diego\, CA 92103\nthroughthefold.com \nFind a Read-In near you\nUse the directory to find other Read-In locations. To learn more about the event\, get in touch with the bookshop or library!
URL:https://preciouseggs.us/event/banned-books-week-read-in/
CATEGORIES:Community Events
ATTACH;FMTTYPE=image/png:https://preciouseggs.us/wp-content/uploads/2025/09/Banned-Books-Week-1080-x-1350px.png
END:VEVENT
BEGIN:VEVENT
DTSTART;VALUE=DATE:20250923
DTEND;VALUE=DATE:20251013
DTSTAMP:20260419T095549
CREATED:20250923T201854Z
LAST-MODIFIED:20250923T202130Z
UID:10000453-1758585600-1760313599@preciouseggs.us
SUMMARY:Malibu Barbie Cafe
DESCRIPTION:As soon as you step into our trendy cafe\, you’ll be transported to 1970s Malibu California with a sea of poptimistic Barbie colors\, laid-back beachy motifs and lots of retro glam. Soak up the Cali vibes as you explore the immersive space inspired by Malibu Barbie\, including an iconic life-size Barbie Box\, made for snapping photos with your best pose. Our menu\, curated by Chef Becky Brown (Master Chef Finalist)\, was created with all tastes and preferences in mind\, and features a delicious array of classics with a unique Barbie-inspired twist. \nThe Malibu Barbie Cafe allows guests to experience the ultimate form of Barbie-inspired dining. The Malibu Barbie Cafe will be a casual restaurant emphasizing friendly fare\, delicious desserts\, and a variety of drinks. The pop-up will also come complete with exclusive merchandise and a variety of signature moments for fans to interact with. \nWhether you’re a longtime Barbie fan\, celebrating a special occasion\, or just gathering with friends\, we’ve got something for everyone here. This one-of-a-kind experience is perfect for making memories with your BFFs\, kids\, family\, date\, or girl squad. See you soon at the Malibu Barbie Cafe! A 20% gratuity will be added on to your checks at the end of your visit for our hardworking Barbies.
URL:https://preciouseggs.us/event/malibu-barbie-cafe/
LOCATION:Malibu Barbie Cafe\, 2137 Pacific Hwy\, San Diego\, 92101\, United States
CATEGORIES:Pop-Up
ATTACH;FMTTYPE=image/jpeg:https://preciouseggs.us/wp-content/uploads/2025/09/1752187986353.jpg
END:VEVENT
BEGIN:VEVENT
DTSTART;TZID=America/Los_Angeles:20250922T180000
DTEND;TZID=America/Los_Angeles:20250922T180000
DTSTAMP:20260419T095549
CREATED:20250922T195425Z
LAST-MODIFIED:20250922T195444Z
UID:10000452-1758564000-1758564000@preciouseggs.us
SUMMARY:Chili Night at Jac's
DESCRIPTION:Parking in my neighborhood is terrible and I have no solutions! I’ll have beer and non-alcoholic drinks\, chili\, and cornbread! No need to bring anything unless there’s something you’re excited for that’s not covered above! – Jac
URL:https://preciouseggs.us/event/chili-night-at-jacs/
LOCATION:Jac’s\, 4081 Kansas #8\, San Diego\, 92104\, United States
CATEGORIES:Lowkey Hang
ATTACH;FMTTYPE=image/jpeg:https://preciouseggs.us/wp-content/uploads/2025/09/bowl-of-fresh-chili-landscape-large-3417845890.jpg
END:VEVENT
BEGIN:VEVENT
DTSTART;TZID=America/Los_Angeles:20250920T110000
DTEND;TZID=America/Los_Angeles:20250920T140000
DTSTAMP:20260419T095549
CREATED:20250903T222522Z
LAST-MODIFIED:20250910T193951Z
UID:10000449-1758366000-1758376800@preciouseggs.us
SUMMARY:Veronica Celebration Brunch
DESCRIPTION:Bubbles for Brunch is San Diego’s ONLY Saturday Morning Drag Show & Interactive experience!\nFeaturing a rotating cast of Drag Queens from Reality Stardom to our local creme de la creme of talent. Hosted by local Cosplay Queen Kickxy Vixen. \nEach week\, we feature everything from Female Celebrity Impersonation\, Cosplay Characters\, Burlesque Performers\, and even Boylesque entertainment\, and we feature the live audience.  It’s the perfect way to start your Saturday  —  leave the kids with the babysitter and come play with our kings & queens. \n\nTickets are $20. Bottomless Mimosas $22.95! Brunch sold separately.\n\nAll are welcome at Urban MO’s so come check out Bubbles and Breakfast every Saturday. Seating at 11 am & SHOWTIME at NOON. \nTable numbers are assigned as needed to accommodate large parties. \nWe are also serving All You can Drink Mimosas (not included in the price) and a full bar\, hey\, it makes for a fun\, wild\, and crazy afternoon.   
URL:https://preciouseggs.us/event/veronica-celebration-brunch/
LOCATION:Urban Mo’s\, 308 University\, San Diego\, 92103\, United States
CATEGORIES:Graduation
ATTACH;FMTTYPE=image/webp:https://preciouseggs.us/wp-content/uploads/2025/09/Bubbles-Sep-20th.webp
END:VEVENT
BEGIN:VEVENT
DTSTART;TZID=America/Los_Angeles:20250911T180000
DTEND;TZID=America/Los_Angeles:20250911T210000
DTSTAMP:20260419T095549
CREATED:20250609T034407Z
LAST-MODIFIED:20250903T222125Z
UID:10000422-1757613600-1757624400@preciouseggs.us
SUMMARY:The Thursday Murder Club
DESCRIPTION:Wine\, tea\, and lemon drizzle cake will be provided.
URL:https://preciouseggs.us/event/the-thursday-murder-club/
LOCATION:Elizabeth’s\, 3203 Grim Ave\, San Diego\, 92104\, United States
CATEGORIES:Movie Premiere
ATTACH;FMTTYPE=image/jpeg:https://preciouseggs.us/wp-content/uploads/2025/06/IMG_0973.jpeg
END:VEVENT
BEGIN:VEVENT
DTSTART;TZID=America/Los_Angeles:20250823T100000
DTEND;TZID=America/Los_Angeles:20250823T160000
DTSTAMP:20260419T095549
CREATED:20250604T212614Z
LAST-MODIFIED:20250604T212614Z
UID:10000384-1755943200-1755964800@preciouseggs.us
SUMMARY:San Diego Book Festival
DESCRIPTION:Info from the website: \n\n\n\n\n\n\nJoin us on August 23 at the University of San Diego for the inaugural KPBS San Diego Book Festival\, a free event for book lovers of all ages. \n\n\n\n\n\n\n\n\n\n\n\n\nThe KPBS San Diego Book Festival will include: \n\nThe 2025 One Book\, One San Diego selection announcement!\nInteractive panel sessions and book signings with more than 30 award-winning authors.\nA youth reading stage and exploration area with hands-on activities where you can meet beloved friends from PBS Kids\, including Clifford the Big Red Dog\, Curious George and the Cat in the Hat.\n\nSpanish language and bilingual programming.\n\nPoetry readings\, live music and entertainment.\nExhibitors\, book sellers and food trucks.\n\n\n\n\n\n\n\nRSVP HERE \nhttps://www.eventbrite.com/e/kpbs-san-diego-book-festival-registration-1376953869089?utm_experiment=test_share_listing&aff=ebdsshios&sg=69c5075563130c6e8b3e27e68b7e333b8d65c0fbf318c8484d06ac216793f3c6dd2c9f7203b3e29c9c9917b993b14ed9aa27416d6593068efa74d72d7b1ae3bac8067ce3d858af49f677602c
URL:https://preciouseggs.us/event/san-diego-book-festival/
LOCATION:University of San Diego\, 5998 Alcala Park\, San Diego\, 92110\, United States
CATEGORIES:Gal Dates
ATTACH;FMTTYPE=image/jpeg:https://preciouseggs.us/wp-content/uploads/2025/06/IMG_6250.jpeg
END:VEVENT
BEGIN:VEVENT
DTSTART;VALUE=DATE:20250821
DTEND;VALUE=DATE:20250822
DTSTAMP:20260419T095549
CREATED:20250610T025342Z
LAST-MODIFIED:20250613T003818Z
UID:10000423-1755734400-1755820799@preciouseggs.us
SUMMARY:Katie's Birthday
DESCRIPTION:Happy Birthday\, Katie!
URL:https://preciouseggs.us/event/katies-birthday/2025-08-21/
CATEGORIES:Birthday
ATTACH;FMTTYPE=image/jpeg:https://preciouseggs.us/wp-content/uploads/2025/06/crocodile-7833562_1280.jpg
END:VEVENT
BEGIN:VEVENT
DTSTART;VALUE=DATE:20250816
DTEND;VALUE=DATE:20250817
DTSTAMP:20260419T095549
CREATED:20250522T170037Z
LAST-MODIFIED:20250522T170146Z
UID:10000378-1755302400-1755388799@preciouseggs.us
SUMMARY:Relay For Life of North County
DESCRIPTION:Team:Cancer is Cancelled \n  \n\n\nWalking in memory of Pamela Guest\, and in honor of my own fight against cancer. This cause is very close to my heart. In 2011\, my mom was diagnosed with Stage IV Melanoma\, and fought\, but lost\, a very brave battle following her diagnosis. Helping with her care and being witness to her decline\, I saw the horrors of what cancer can do firsthand.  Now facing my own battle with a recent endometrial cancer diagnosis\, I’m taking action by taking my “Steps for Hope” at Relay for Life. Join me in the fight against cancer—your generous support fuels research\, patient care\, and a future free from this disease. Every step we take together strengthens our path to hope. Please consider donating today\, and/or joining the team to participate. \n  \n“But those who hope in the LORD will renew their strength. They will soar on wings like eagles; they will run and not grow weary\, they will walk and not be faint.” – Isaiah 40:31
URL:https://preciouseggs.us/event/relay-for-life-of-north-county/
LOCATION:Army and Navy Academy\, 2605 Carlsbad Blvd.\, Carlsbad\, 92008\, United States
CATEGORIES:Fundraising
ATTACH;FMTTYPE=image/png:https://preciouseggs.us/wp-content/uploads/2025/05/110351.1437536604.png
END:VEVENT
BEGIN:VEVENT
DTSTART;TZID=America/Los_Angeles:20250805T173000
DTEND;TZID=America/Los_Angeles:20250805T190000
DTSTAMP:20260419T095549
CREATED:20250702T210500Z
LAST-MODIFIED:20250716T173949Z
UID:10000430-1754415000-1754420400@preciouseggs.us
SUMMARY:Art in the Evenings: Embroidery
DESCRIPTION:Join us for a beginner’s exploration of art for adults\, featuring different mediums and instructors in each session. \nTextile artist and fashion designer\, Claudia Rodríguez-Biezunski of Sew Loka\, will teach embroidery basics in her edgy style. \nAll supplies are provided. Registration required. \nRegistration opens: \n Saturday\, Jul 5 at 9:00am \nSponsored by the Friends of the La Mesa Library.
URL:https://preciouseggs.us/event/art-in-the-evenings-embroidery/
LOCATION:La Mesa library\, 8074 Allison Avenue\, La Mesa\, 91942\, United States
CATEGORIES:Community Events
ATTACH;FMTTYPE=image/jpeg:https://preciouseggs.us/wp-content/uploads/2025/07/SewLoka.jpg
END:VEVENT
BEGIN:VEVENT
DTSTART;TZID=America/Los_Angeles:20250802T190000
DTEND;TZID=America/Los_Angeles:20250802T230000
DTSTAMP:20260419T095549
CREATED:20250704T000530Z
LAST-MODIFIED:20250725T195802Z
UID:10000431-1754161200-1754175600@preciouseggs.us
SUMMARY:Veronica’s Birthday Celebration
DESCRIPTION:Dinner at Herb and Wood \nSan Diego’s Modern Interpretation of Traditional Mediterranean Cuisine. Timeless yet approachable\, celebrated Chef Brian Malarkey’s Herb & Wood focuses on rustic\, wood-fired dishes. The menu elevates humble ingredients\, highlights Mediterranean flavors\, and brings a California ethos of seasonality and sustainability to every dish. \nFollowed by drinks at the Lobby Bar at the Lafayette \nThe Lobby Bar is circular in design under the soaring glass atrium flooding the space with light and is anchored by the Atlas statue and surrounded by a hand-painted ceiling by Brazilian-based artist Joāo Incerti. The menu will feature thoughtful\, classic throwback cocktails served in an environment created to foster connectivity between visitors and locals. This bar is constructed with detailed wood surrounded by delicate banquettes with wrought iron lamps and is a convenient meeting space and starting point to the many dining and entertainment rooms held within the hotel.
URL:https://preciouseggs.us/event/veronicas-birthday-celebration/
LOCATION:Herb and Wood\, 2210 Kettner Blvd.\, San Diego\, 92101\, United States
CATEGORIES:Birthday,Dinner
ATTACH;FMTTYPE=image/webp:https://preciouseggs.us/wp-content/uploads/2025/07/Print_06-1.webp
END:VEVENT
BEGIN:VEVENT
DTSTART;VALUE=DATE:20250729
DTEND;VALUE=DATE:20250730
DTSTAMP:20260419T095549
CREATED:20250608T033438Z
LAST-MODIFIED:20250613T003807Z
UID:10000406-1753747200-1753833599@preciouseggs.us
SUMMARY:Veronica's Birthday
DESCRIPTION:Happy Birthday\, Veronica!
URL:https://preciouseggs.us/event/veronicas-birthday/2025-07-29/
CATEGORIES:Birthday
ATTACH;FMTTYPE=image/jpeg:https://preciouseggs.us/wp-content/uploads/2025/06/candy-2363928_1280.jpg
END:VEVENT
BEGIN:VEVENT
DTSTART;TZID=America/Los_Angeles:20250719T100000
DTEND;TZID=America/Los_Angeles:20250719T150000
DTSTAMP:20260419T095549
CREATED:20250628T174020Z
LAST-MODIFIED:20250702T210826Z
UID:10000428-1752919200-1752937200@preciouseggs.us
SUMMARY:Pride Parade in Hillcrest
DESCRIPTION:San Diego’s Pride Parade is the largest single-day civic event in the region and is among the largest Prides in the United States\, attracting over 250\,000 cheering supporters of the LGBTQIA+ community.
URL:https://preciouseggs.us/event/pride-parade-in-hillcrest/
LOCATION:Hillcrest\, Richmond & University\, San Diego\, United States
CATEGORIES:Community Events
ATTACH;FMTTYPE=image/jpeg:https://preciouseggs.us/wp-content/uploads/2025/06/Contingent_2018-scaled-1.jpg
END:VEVENT
BEGIN:VEVENT
DTSTART;VALUE=DATE:20250716
DTEND;VALUE=DATE:20250717
DTSTAMP:20260419T095549
CREATED:20250716T173735Z
LAST-MODIFIED:20250716T173855Z
UID:10000443-1752624000-1752710399@preciouseggs.us
SUMMARY:Amanda's Birthday
DESCRIPTION:Happy Birthday\, Amanda!
URL:https://preciouseggs.us/event/amandas-birthday/2025-07-16/
CATEGORIES:Birthday
ATTACH;FMTTYPE=image/jpeg:https://preciouseggs.us/wp-content/uploads/2025/07/pexels-n-voitkevich-10477169-scaled.jpg
END:VEVENT
BEGIN:VEVENT
DTSTART;TZID=America/Los_Angeles:20250712T143000
DTEND;TZID=America/Los_Angeles:20250712T163000
DTSTAMP:20260419T095549
CREATED:20250522T233934Z
LAST-MODIFIED:20250701T002654Z
UID:10000380-1752330600-1752337800@preciouseggs.us
SUMMARY:North Coast Symphony Orchestra presents our Fairy Tales Pops Concert
DESCRIPTION:Join us July 12 for our pops concert season finale!\n\n\n\n\n\n\n\n\n\n\n\n\n\n\nWe return to San Dieguito United Methodist Church\, Encinitas\, for our pops concert \n\n\n\n\n\n\n\n\n\n\n\n\n\n\nJoin us for a magical afternoon as the North Coast Symphony Orchestra presents our Fairy Tales Pops Concert\, the finale of our 2024-25 season! Immerse yourself in a world of wonder as we bring to life the beloved sounds of timeless fairy tales and fantastical adventures. From Tchaikovsky’s elegant Waltz from Sleeping Beauty to the iconic themes of Harry Potter\, Beauty and the Beast\, The Hobbit\, Hook\, and Frozen\, this concert promises a journey through some of the most enchanting stories ever told. Perfect for all ages\, this concert is a wonderful way to close out the season with a celebration of the magic that lives in our favorite tales.
URL:https://preciouseggs.us/event/fairy-tales/
LOCATION:San Dieguito United Methodist Church\, 170 Calle Magdalena\, Encinitas\, 92024\, United States
CATEGORIES:Orchestra
ATTACH;FMTTYPE=image/jpeg:https://preciouseggs.us/wp-content/uploads/2025/05/IMG_8500-scaled.jpg
END:VEVENT
BEGIN:VEVENT
DTSTART;TZID=America/Los_Angeles:20250704T120000
DTEND;TZID=America/Los_Angeles:20250704T120000
DTSTAMP:20260419T095549
CREATED:20250702T204721Z
LAST-MODIFIED:20250716T173920Z
UID:10000429-1751630400-1751630400@preciouseggs.us
SUMMARY:Dia de los Hot Dogs
DESCRIPTION:My family doesn’t feel like celebrating the USA right now\, so we made up a different holiday My sister and her spouse are having a pool party at their house. (It’s a small pool\, but their house/ yard are *amazing*!!) Beer\, seltzer\, hot dogs\, potato salad\, salad\, and hard-boiled eggs provided (and maybe also a cobbler if I feel ambitious?); BYO anything else!
URL:https://preciouseggs.us/event/dia-de-los-hot-dogs/
LOCATION:3244 N Mountain View Drive\, 3244 North Mountain View Drive\, San Diego\, 92116\, United States
CATEGORIES:Pool Party
ATTACH;FMTTYPE=image/png:https://preciouseggs.us/wp-content/uploads/2025/07/IMG_6325.jpg.png
END:VEVENT
BEGIN:VEVENT
DTSTART;TZID=America/Los_Angeles:20250620T200000
DTEND;TZID=America/Los_Angeles:20250620T210000
DTSTAMP:20260419T095549
CREATED:20250608T030825Z
LAST-MODIFIED:20250608T034600Z
UID:10000385-1750449600-1750453200@preciouseggs.us
SUMMARY:Improv Comedy Show
DESCRIPTION:Join us for a night of laughs! \nThe show\, “Deep Dish\,” starts at 8pm at Finest City Improv in Hillcrest. You can buy your ticket here: \nGet Tickets
URL:https://preciouseggs.us/event/improv-comedy-show/
LOCATION:Finest City Improv\, 3746 Sixth Ave\, San Diego\, CA\, 92103\, United States
CATEGORIES:Theater
ATTACH;FMTTYPE=image/jpeg:https://preciouseggs.us/wp-content/uploads/2025/06/108010_event_md_190.jpg
END:VEVENT
BEGIN:VEVENT
DTSTART;TZID=America/Los_Angeles:20250614T143000
DTEND;TZID=America/Los_Angeles:20250614T143000
DTSTAMP:20260419T095549
CREATED:20250522T233452Z
LAST-MODIFIED:20250613T004314Z
UID:10000379-1749911400-1749911400@preciouseggs.us
SUMMARY:City of Encinitas Piano Concerto Competition
DESCRIPTION:City of Encinitas Youth Piano Concert this Saturday 14 June!\n\n\n\n\n\n\n\n\n\n\n\n\n\n\nCome hear these exceptional young pianists perform this Saturday! \nThe concert will feature each soloist performing a movement from their chosen concerto on the magnificent Steinway D grand piano at the Encinitas Community and Senior Center. In addition\, the orchestra will perform Mendelssohn’s Hebrides Overture. They are: \n\nCharity Chen\, performing Haydn’s Keyboard Concerto no. 11 \nVictoria Sun\, performing Mendelssohn’s Piano Concerto no. 1\nChloe Wang\, performing Kabalevsky’s Piano Concerto no. 3\n\nThis musical celebration is presented by the City of Encinitas. \n\nPurchase your ticket here!
URL:https://preciouseggs.us/event/city-of-encinitas-piano-concerto-competition/
LOCATION:Encinitas Community and Senior Center\, 1140 Oakcrest Park Dr\, Encinitas\, 92024\, United States
CATEGORIES:Orchestra
ATTACH;FMTTYPE=image/jpeg:https://preciouseggs.us/wp-content/uploads/2025/05/IMG_8628.jpeg
END:VEVENT
BEGIN:VEVENT
DTSTART;VALUE=DATE:20250614
DTEND;VALUE=DATE:20250615
DTSTAMP:20260419T095549
CREATED:20250601T025526Z
LAST-MODIFIED:20250601T025852Z
UID:10000382-1749859200-1749945599@preciouseggs.us
SUMMARY:Stephanie’s birthday
DESCRIPTION:
URL:https://preciouseggs.us/event/stephanies-birthday/
CATEGORIES:Birthday
ATTACH;FMTTYPE=image/jpeg:https://preciouseggs.us/wp-content/uploads/2025/05/IMG_6216.jpeg
END:VEVENT
BEGIN:VEVENT
DTSTART;TZID=America/Los_Angeles:20250613T183000
DTEND;TZID=America/Los_Angeles:20250613T210000
DTSTAMP:20260419T095549
CREATED:20250602T195018Z
LAST-MODIFIED:20250602T212504Z
UID:10000383-1749839400-1749848400@preciouseggs.us
SUMMARY:Pizza and Vino
DESCRIPTION:Hello all\, it’s my birthday on the 14th. Would you like to join me for a casual pizza and vino at Buona Forchetta in South Park on Friday June 13 at 6:45pm? \nI never normally do much for my birthday\, but I thought I’d use it as an opportunity to both hang out with new friends\, and to support the Buona Forchetta team after the events of the weekend. \nRSVP to me please – I’ll make a res. Would love to see you. \nbuonaforchettasd.com \n3001 Beech St San Diego CA 92102
URL:https://preciouseggs.us/event/pizza-and-vino/
LOCATION:Buona Forchetta\, 3001 Beech St\, San Diego\, CA\, 921102
CATEGORIES:Dinner
ATTACH;FMTTYPE=image/jpeg:https://preciouseggs.us/wp-content/uploads/2025/06/IMG_6242.jpeg
END:VEVENT
BEGIN:VEVENT
DTSTART;TZID=America/Los_Angeles:20250607T140000
DTEND;TZID=America/Los_Angeles:20250607T163000
DTSTAMP:20260419T095549
CREATED:20250521T192430Z
LAST-MODIFIED:20250613T003645Z
UID:10000005-1749304800-1749313800@preciouseggs.us
SUMMARY:Pontoon Expedition
DESCRIPTION:Floating Eggs \nAlmost time for our day on the bay! Please confirm with me if you can make it (Katie and Elizabeth\, I have you down as OOT for this) \nHere are some details! \n⏰ When: Saturday\, 6/7 departing at 2 pm (please lmk asap if you are running more than 15min late) with a return set at 4:30 but we can stay out longer if we want! \nTips:\n️️Layers and sun protection – it’s always cooler and windier out on the bay than you’d expect. \nBring a snack or bevvie to share. \n‍ I’d thought it’d be fun to curate our own playlist for this adventure\, add to it here \nLooking forward to it!!! Feel free to reach out with any other questions or concerns
URL:https://preciouseggs.us/event/pontoon-expedition/
LOCATION:Freedom Boat Club at Dana Landing\, 2620 Ingraham St Unit A\, San Diego\, 92109\, United States
CATEGORIES:Outdoor Adventure
ATTACH;FMTTYPE=image/webp:https://preciouseggs.us/wp-content/uploads/2025/05/lrg-boat-coming-into-mission-bay.webp
END:VEVENT
END:VCALENDAR