BEGIN:VCALENDAR
VERSION:2.0
PRODID:-//Precious Eggs - ECPv6.15.20//NONSGML v1.0//EN
CALSCALE:GREGORIAN
METHOD:PUBLISH
X-WR-CALNAME:Precious Eggs
X-ORIGINAL-URL:https://preciouseggs.us
X-WR-CALDESC:Events for Precious Eggs
REFRESH-INTERVAL;VALUE=DURATION:PT1H
X-Robots-Tag:noindex
X-PUBLISHED-TTL:PT1H
BEGIN:VTIMEZONE
TZID:America/Los_Angeles
BEGIN:DAYLIGHT
TZOFFSETFROM:-0800
TZOFFSETTO:-0700
TZNAME:PDT
DTSTART:20240310T100000
END:DAYLIGHT
BEGIN:STANDARD
TZOFFSETFROM:-0700
TZOFFSETTO:-0800
TZNAME:PST
DTSTART:20241103T090000
END:STANDARD
BEGIN:DAYLIGHT
TZOFFSETFROM:-0800
TZOFFSETTO:-0700
TZNAME:PDT
DTSTART:20250309T100000
END:DAYLIGHT
BEGIN:STANDARD
TZOFFSETFROM:-0700
TZOFFSETTO:-0800
TZNAME:PST
DTSTART:20251102T090000
END:STANDARD
BEGIN:DAYLIGHT
TZOFFSETFROM:-0800
TZOFFSETTO:-0700
TZNAME:PDT
DTSTART:20260308T100000
END:DAYLIGHT
BEGIN:STANDARD
TZOFFSETFROM:-0700
TZOFFSETTO:-0800
TZNAME:PST
DTSTART:20261101T090000
END:STANDARD
END:VTIMEZONE
BEGIN:VEVENT
DTSTART;TZID=America/Los_Angeles:20251212T190000
DTEND;TZID=America/Los_Angeles:20251212T220000
DTSTAMP:20260420T213219
CREATED:20251107T175649Z
LAST-MODIFIED:20251107T175650Z
UID:10000476-1765566000-1765576800@preciouseggs.us
SUMMARY:Ugly Sweater Party
DESCRIPTION:Info TBD
URL:https://preciouseggs.us/event/ugly-sweater-party/
LOCATION:Nicole’s\, 4474 71st Street\, La Mesa\, CA\, 91942\, United States
CATEGORIES:Dinner
ATTACH;FMTTYPE=image/jpeg:https://preciouseggs.us/wp-content/uploads/2025/11/three-ugly-sweater-party-in-the-middle-s5ym2f0qwqa2d534-2318615716.jpg
END:VEVENT
BEGIN:VEVENT
DTSTART;TZID=America/Los_Angeles:20251214T140000
DTEND;TZID=America/Los_Angeles:20251214T163000
DTSTAMP:20260420T213219
CREATED:20251115T172338Z
LAST-MODIFIED:20251115T172338Z
UID:10000478-1765720800-1765729800@preciouseggs.us
SUMMARY:Holiday Harmonies Orchestra Concert
DESCRIPTION:Celebrate the season with the North Coast Symphony as we present Holiday Harmonies — a joyful concert of festive music for the whole family. \nThe orchestra shines in sparkling arrangements of beloved classics including White Christmas\, Jingle Bell Fantasy\,  Overture of French Carols\,  Greensleeves\, and Joy to the World. \nJoining us are the talented young voices of the North Coast Singers\, a vibrant youth choir of students in grades 4–12. Their radiant sound and enthusiasm adds warmth and spirit to the celebration — the perfect complement to the orchestra’s rich\, symphonic color. \nFor the first time in many years\, we’re performing the same program twice: \n\n Friday\, December 12 at 7:00 PM\n Sunday\, December 14 at 2:00 PM \nWhether this is your first live orchestral concert or a cherished annual tradition\, Holiday Harmonies will fill your heart with music and joy of the season.
URL:https://preciouseggs.us/event/holiday-harmonies-orchestra-concert/
LOCATION:San Dieguito United Methodist Church\, 170 Calle Magdalena\, Encinitas\, 92024\, United States
CATEGORIES:Community Events
ATTACH;FMTTYPE=image/jpeg:https://preciouseggs.us/wp-content/uploads/2025/11/IMG_0819.jpeg
END:VEVENT
BEGIN:VEVENT
DTSTART;TZID=America/Los_Angeles:20251221T180000
DTEND;TZID=America/Los_Angeles:20251221T193000
DTSTAMP:20260420T213219
CREATED:20251115T171358Z
LAST-MODIFIED:20251220T035527Z
UID:10000477-1766340000-1766345400@preciouseggs.us
SUMMARY:Holiday Boat Parade
DESCRIPTION:Meet at Seaport Village around 6 pm to grab a spot for an “out of this world” Christmas extravaganza! Partners\, family\, and fur babies welcome.
URL:https://preciouseggs.us/event/holiday-boat-parade/
LOCATION:Seaport Village\, 849 W Harbor Drive\, San Diego\, CA\, 92101
CATEGORIES:Community Events
END:VEVENT
END:VCALENDAR