BEGIN:VCALENDAR
VERSION:2.0
PRODID:-//Precious Eggs - ECPv6.15.20//NONSGML v1.0//EN
CALSCALE:GREGORIAN
METHOD:PUBLISH
X-WR-CALNAME:Precious Eggs
X-ORIGINAL-URL:https://preciouseggs.us
X-WR-CALDESC:Events for Precious Eggs
REFRESH-INTERVAL;VALUE=DURATION:PT1H
X-Robots-Tag:noindex
X-PUBLISHED-TTL:PT1H
BEGIN:VTIMEZONE
TZID:America/Los_Angeles
BEGIN:DAYLIGHT
TZOFFSETFROM:-0800
TZOFFSETTO:-0700
TZNAME:PDT
DTSTART:20240310T100000
END:DAYLIGHT
BEGIN:STANDARD
TZOFFSETFROM:-0700
TZOFFSETTO:-0800
TZNAME:PST
DTSTART:20241103T090000
END:STANDARD
BEGIN:DAYLIGHT
TZOFFSETFROM:-0800
TZOFFSETTO:-0700
TZNAME:PDT
DTSTART:20250309T100000
END:DAYLIGHT
BEGIN:STANDARD
TZOFFSETFROM:-0700
TZOFFSETTO:-0800
TZNAME:PST
DTSTART:20251102T090000
END:STANDARD
BEGIN:DAYLIGHT
TZOFFSETFROM:-0800
TZOFFSETTO:-0700
TZNAME:PDT
DTSTART:20260308T100000
END:DAYLIGHT
BEGIN:STANDARD
TZOFFSETFROM:-0700
TZOFFSETTO:-0800
TZNAME:PST
DTSTART:20261101T090000
END:STANDARD
END:VTIMEZONE
BEGIN:VEVENT
DTSTART;VALUE=DATE:20250923
DTEND;VALUE=DATE:20251013
DTSTAMP:20260420T195754
CREATED:20250923T201854Z
LAST-MODIFIED:20250923T202130Z
UID:10000453-1758585600-1760313599@preciouseggs.us
SUMMARY:Malibu Barbie Cafe
DESCRIPTION:As soon as you step into our trendy cafe\, you’ll be transported to 1970s Malibu California with a sea of poptimistic Barbie colors\, laid-back beachy motifs and lots of retro glam. Soak up the Cali vibes as you explore the immersive space inspired by Malibu Barbie\, including an iconic life-size Barbie Box\, made for snapping photos with your best pose. Our menu\, curated by Chef Becky Brown (Master Chef Finalist)\, was created with all tastes and preferences in mind\, and features a delicious array of classics with a unique Barbie-inspired twist. \nThe Malibu Barbie Cafe allows guests to experience the ultimate form of Barbie-inspired dining. The Malibu Barbie Cafe will be a casual restaurant emphasizing friendly fare\, delicious desserts\, and a variety of drinks. The pop-up will also come complete with exclusive merchandise and a variety of signature moments for fans to interact with. \nWhether you’re a longtime Barbie fan\, celebrating a special occasion\, or just gathering with friends\, we’ve got something for everyone here. This one-of-a-kind experience is perfect for making memories with your BFFs\, kids\, family\, date\, or girl squad. See you soon at the Malibu Barbie Cafe! A 20% gratuity will be added on to your checks at the end of your visit for our hardworking Barbies.
URL:https://preciouseggs.us/event/malibu-barbie-cafe/
LOCATION:Malibu Barbie Cafe\, 2137 Pacific Hwy\, San Diego\, 92101\, United States
CATEGORIES:Pop-Up
ATTACH;FMTTYPE=image/jpeg:https://preciouseggs.us/wp-content/uploads/2025/09/1752187986353.jpg
END:VEVENT
BEGIN:VEVENT
DTSTART;VALUE=DATE:20251005
DTEND;VALUE=DATE:20251008
DTSTAMP:20260420T195754
CREATED:20250917T182356Z
LAST-MODIFIED:20250917T182356Z
UID:10000451-1759622400-1759881599@preciouseggs.us
SUMMARY:Banned Books Week Read-In
DESCRIPTION:Libro.fm and Silent Book Club have paired up with nearly 450 independent bookshops and libraries to protest ongoing censorship on October 5\, 6\, and 7. \nAttendees will also receive a free audiobook. \nAber Stoat Books\, North County\nNeurodivergent\, Latinx\, and Women-Owned\n2173 Salk Ave\,\nCarlsbad\, CA 92008\naberstoatbooks.com \nMeet Cute Romance Bookshop\, East County\nQueer- and Woman-Owned \n8235 La Mesa Blvd.\nLa Mesa\, CA 91942\nmeetcutebookshop.com \nThrough the Fold\, San Diego\nMother-Daughter Duo\n1525 Ft. Stockton Dr.\nSan Diego\, CA 92103\nthroughthefold.com \nFind a Read-In near you\nUse the directory to find other Read-In locations. To learn more about the event\, get in touch with the bookshop or library!
URL:https://preciouseggs.us/event/banned-books-week-read-in/
CATEGORIES:Community Events
ATTACH;FMTTYPE=image/png:https://preciouseggs.us/wp-content/uploads/2025/09/Banned-Books-Week-1080-x-1350px.png
END:VEVENT
BEGIN:VEVENT
DTSTART;VALUE=DATE:20251011
DTEND;VALUE=DATE:20251012
DTSTAMP:20260420T195754
CREATED:20250608T032825Z
LAST-MODIFIED:20250613T003843Z
UID:10000386-1760140800-1760227199@preciouseggs.us
SUMMARY:Nicole's Birthday
DESCRIPTION:Happy Birthday\, Nicole!
URL:https://preciouseggs.us/event/nicoles-birthday/2025-10-11/
CATEGORIES:Birthday
ATTACH;FMTTYPE=image/jpeg:https://preciouseggs.us/wp-content/uploads/2025/06/fox-7833563_1280.jpg
END:VEVENT
BEGIN:VEVENT
DTSTART;VALUE=DATE:20251017
DTEND;VALUE=DATE:20251024
DTSTAMP:20260420T195754
CREATED:20251003T204845Z
LAST-MODIFIED:20251003T204845Z
UID:10000471-1760659200-1761263999@preciouseggs.us
SUMMARY:The Librarians
DESCRIPTION:Director: Kim A. Snyder Run Time: 92 min. Release Year: 2025 \nStarring: Amanda Jones\, Becky Calzada\, Carolyn Foote\, Martha Hickson\, Suzette Baker \n\nSynopsis: As an unprecedented wave of book banning is sparked in Texas\, Florida\, and beyond\, librarians under siege join forces as unlikely defenders fighting for intellectual freedom on the front lines of democracy. \nTHE LIBRARIANS offers a rattling look at coordinated efforts to ban books. More importantly\, it introduces viewers to the everyday and increasingly vital heroes pushing back: the librarians who sound the alarm to both legislative and grassroots attempts to pull books from school and public libraries. \nIn Texas\, the Krause List targets 850 books focused on race and LGBTQIA+ stories – triggering sweeping book bans across the U.S. at an unprecedented rate. As tensions escalate\, librarians connect the dots from heated school and library board meetings nationwide to lay bare the underpinnings of White Christian Nationalism fueling the censorship efforts. Despite facing harassment\, threats\, and laws aimed at criminalizing their work – the librarians’ rallying cry for freedom to read is a chilling cautionary tale.
URL:https://preciouseggs.us/event/the-librarians/
LOCATION:Digital Gym Cinema\, 1100 Market St.\, San Diego\, 92101\, United States
CATEGORIES:Movie Premiere
ATTACH;FMTTYPE=image/jpeg:https://preciouseggs.us/wp-content/uploads/2025/10/f2xA2e81wBiRxio32kRJe42P05M.jpg
END:VEVENT
BEGIN:VEVENT
DTSTART;TZID=America/Los_Angeles:20251018T100000
DTEND;TZID=America/Los_Angeles:20251018T170000
DTSTAMP:20260420T195754
CREATED:20250916T235424Z
LAST-MODIFIED:20251004T173502Z
UID:10000450-1760781600-1760806800@preciouseggs.us
SUMMARY:North Park Book Fair - CANCELLED
DESCRIPTION:
URL:https://preciouseggs.us/event/north-park-book-fair/
LOCATION:North Park Way\, San Diego\, CA\, 92104\, United States
CATEGORIES:Community Events
ATTACH;FMTTYPE=image/png:https://preciouseggs.us/wp-content/uploads/2025/09/IMG_8407-copy.png
GEO:32.7472254;-117.1312154
END:VEVENT
BEGIN:VEVENT
DTSTART;TZID=America/Los_Angeles:20251031T180000
DTEND;TZID=America/Los_Angeles:20251031T203000
DTSTAMP:20260420T195754
CREATED:20251003T204355Z
LAST-MODIFIED:20251003T204355Z
UID:10000470-1761933600-1761942600@preciouseggs.us
SUMMARY:Embroidery Nights
DESCRIPTION:Join us for an evening of creativity\, community\, and craft at Sew Loka’s Embroidery Nights! \nStep into our vibrant sewing studio for a relaxing evening where thread meets fabric and strangers become friends. Whether you’ve never held a needle or you’re an experienced stitcher\, this workshop welcomes all skill levels – beginners are encouraged! \nOnly 30 spots available | All materials and snacks provided
URL:https://preciouseggs.us/event/embroidery-nights/
LOCATION:Sew Loka\, 2113 Logan Ave\, Ste B\, San Diego\, 92113\, United States
CATEGORIES:Arts & Crafts,Community Events
ATTACH;FMTTYPE=image/png:https://preciouseggs.us/wp-content/uploads/2025/10/appointmentType-thumb-81326660.png
END:VEVENT
END:VCALENDAR