BEGIN:VCALENDAR
VERSION:2.0
PRODID:-//Precious Eggs - ECPv6.15.20//NONSGML v1.0//EN
CALSCALE:GREGORIAN
METHOD:PUBLISH
X-WR-CALNAME:Precious Eggs
X-ORIGINAL-URL:https://preciouseggs.us
X-WR-CALDESC:Events for Precious Eggs
REFRESH-INTERVAL;VALUE=DURATION:PT1H
X-Robots-Tag:noindex
X-PUBLISHED-TTL:PT1H
BEGIN:VTIMEZONE
TZID:America/Los_Angeles
BEGIN:DAYLIGHT
TZOFFSETFROM:-0800
TZOFFSETTO:-0700
TZNAME:PDT
DTSTART:20240310T100000
END:DAYLIGHT
BEGIN:STANDARD
TZOFFSETFROM:-0700
TZOFFSETTO:-0800
TZNAME:PST
DTSTART:20241103T090000
END:STANDARD
BEGIN:DAYLIGHT
TZOFFSETFROM:-0800
TZOFFSETTO:-0700
TZNAME:PDT
DTSTART:20250309T100000
END:DAYLIGHT
BEGIN:STANDARD
TZOFFSETFROM:-0700
TZOFFSETTO:-0800
TZNAME:PST
DTSTART:20251102T090000
END:STANDARD
BEGIN:DAYLIGHT
TZOFFSETFROM:-0800
TZOFFSETTO:-0700
TZNAME:PDT
DTSTART:20260308T100000
END:DAYLIGHT
BEGIN:STANDARD
TZOFFSETFROM:-0700
TZOFFSETTO:-0800
TZNAME:PST
DTSTART:20261101T090000
END:STANDARD
END:VTIMEZONE
BEGIN:VEVENT
DTSTART;TZID=America/Los_Angeles:20250522T180000
DTEND;TZID=America/Los_Angeles:20250522T210000
DTSTAMP:20260419T144313
CREATED:20250521T223200Z
LAST-MODIFIED:20250521T223200Z
UID:261-1747936800-1747947600@preciouseggs.us
SUMMARY:May Happy Hour
DESCRIPTION:Join other RealRoots members for drinks at The Lafayette Hotel! \n​​​Please do your best to attend if you RSVP – connections are only made when folks show up! \nPlease note: This is an unguided event! You can coordinate with everyone in the group in the chat!
URL:https://preciouseggs.us/event/may-happy-hour/
LOCATION:The Lafayette Hotel and Club\, 2223 El Cajon Blvd.\, San Diego\, CA\, 92104\, United States
CATEGORIES:Real Roots Grads
ATTACH;FMTTYPE=image/webp:https://preciouseggs.us/wp-content/uploads/2025/05/communities_f6a888a5-7ccd-4822-8530-e72ee0481362_events_7a80e956-7f77-4ed8-ac11-408a00310ab6.webp
END:VEVENT
END:VCALENDAR