BEGIN:VCALENDAR
VERSION:2.0
PRODID:-//Precious Eggs - ECPv6.15.20//NONSGML v1.0//EN
CALSCALE:GREGORIAN
METHOD:PUBLISH
X-WR-CALNAME:Precious Eggs
X-ORIGINAL-URL:https://preciouseggs.us
X-WR-CALDESC:Events for Precious Eggs
REFRESH-INTERVAL;VALUE=DURATION:PT1H
X-Robots-Tag:noindex
X-PUBLISHED-TTL:PT1H
BEGIN:VTIMEZONE
TZID:America/Los_Angeles
BEGIN:DAYLIGHT
TZOFFSETFROM:-0800
TZOFFSETTO:-0700
TZNAME:PDT
DTSTART:20250309T100000
END:DAYLIGHT
BEGIN:STANDARD
TZOFFSETFROM:-0700
TZOFFSETTO:-0800
TZNAME:PST
DTSTART:20251102T090000
END:STANDARD
BEGIN:DAYLIGHT
TZOFFSETFROM:-0800
TZOFFSETTO:-0700
TZNAME:PDT
DTSTART:20260308T100000
END:DAYLIGHT
BEGIN:STANDARD
TZOFFSETFROM:-0700
TZOFFSETTO:-0800
TZNAME:PST
DTSTART:20261101T090000
END:STANDARD
BEGIN:DAYLIGHT
TZOFFSETFROM:-0800
TZOFFSETTO:-0700
TZNAME:PDT
DTSTART:20270314T100000
END:DAYLIGHT
BEGIN:STANDARD
TZOFFSETFROM:-0700
TZOFFSETTO:-0800
TZNAME:PST
DTSTART:20271107T090000
END:STANDARD
END:VTIMEZONE
BEGIN:VEVENT
DTSTART;TZID=America/Los_Angeles:20260214T140000
DTEND;TZID=America/Los_Angeles:20260214T170000
DTSTAMP:20260419T094217
CREATED:20260208T210300Z
LAST-MODIFIED:20260208T210300Z
UID:675-1771077600-1771088400@preciouseggs.us
SUMMARY:Hearts and Crafts
DESCRIPTION:Jac will be teaching people to make yarn Pom poms and has a fair amount of yarn. Jen will also be bringing the leftover vision board stuff for make-up manifesting for those who missed it the first time around. \nJac will have snacks and stuff for spritzes.
URL:https://preciouseggs.us/event/hearts-and-crafts/
LOCATION:Jac’s\, 4081 Kansas #8\, San Diego\, 92104\, United States
CATEGORIES:Arts & Crafts
ATTACH;FMTTYPE=image/webp:https://preciouseggs.us/wp-content/uploads/2026/02/Heart-Art-Projects-for-Kids-Kids-Activities-Blog.webp
END:VEVENT
END:VCALENDAR